BEGIN:VCALENDAR
VERSION:2.0
PRODID:-//Yes U Can Too - ECPv6.15.19//NONSGML v1.0//EN
CALSCALE:GREGORIAN
METHOD:PUBLISH
X-ORIGINAL-URL:https://yesucantoo.com
X-WR-CALDESC:Events for Yes U Can Too
REFRESH-INTERVAL;VALUE=DURATION:PT1H
X-Robots-Tag:noindex
X-PUBLISHED-TTL:PT1H
BEGIN:VTIMEZONE
TZID:America/New_York
BEGIN:DAYLIGHT
TZOFFSETFROM:-0500
TZOFFSETTO:-0400
TZNAME:EDT
DTSTART:20190310T070000
END:DAYLIGHT
BEGIN:STANDARD
TZOFFSETFROM:-0400
TZOFFSETTO:-0500
TZNAME:EST
DTSTART:20191103T060000
END:STANDARD
BEGIN:DAYLIGHT
TZOFFSETFROM:-0500
TZOFFSETTO:-0400
TZNAME:EDT
DTSTART:20200308T070000
END:DAYLIGHT
BEGIN:STANDARD
TZOFFSETFROM:-0400
TZOFFSETTO:-0500
TZNAME:EST
DTSTART:20201101T060000
END:STANDARD
BEGIN:DAYLIGHT
TZOFFSETFROM:-0500
TZOFFSETTO:-0400
TZNAME:EDT
DTSTART:20210314T070000
END:DAYLIGHT
BEGIN:STANDARD
TZOFFSETFROM:-0400
TZOFFSETTO:-0500
TZNAME:EST
DTSTART:20211107T060000
END:STANDARD
END:VTIMEZONE
BEGIN:VEVENT
DTSTART;TZID=America/New_York:20200507T080000
DTEND;TZID=America/New_York:20200507T193000
DTSTAMP:20260420T042120
CREATED:20200501T212321Z
LAST-MODIFIED:20200501T212321Z
UID:8279-1588838400-1588879800@yesucantoo.com
SUMMARY:Office hrs
DESCRIPTION:Schedule your video chat
URL:https://yesucantoo.com/event/office-hrs/
END:VEVENT
BEGIN:VEVENT
DTSTART;TZID=America/New_York:20200506T080000
DTEND;TZID=America/New_York:20200506T190000
DTSTAMP:20260420T042120
CREATED:20200501T203134Z
LAST-MODIFIED:20200501T203134Z
UID:8277-1588752000-1588791600@yesucantoo.com
SUMMARY:Office hr
DESCRIPTION:Schedule your weekly appointment
URL:https://yesucantoo.com/event/office-hr/
END:VEVENT
BEGIN:VEVENT
DTSTART;TZID=America/New_York:20200401T080000
DTEND;TZID=America/New_York:20200401T200000
DTSTAMP:20260420T042120
CREATED:20200301T164343Z
LAST-MODIFIED:20200301T164413Z
UID:8042-1585728000-1585771200@yesucantoo.com
SUMMARY:Office Hours
DESCRIPTION:Video Apt ONLY.
URL:https://yesucantoo.com/event/office-hours-25/
END:VEVENT
BEGIN:VEVENT
DTSTART;VALUE=DATE:20200331
DTEND;VALUE=DATE:20200401
DTSTAMP:20260420T042120
CREATED:20200301T164051Z
LAST-MODIFIED:20200301T164051Z
UID:8034-1585612800-1585699199@yesucantoo.com
SUMMARY:Office Closed
DESCRIPTION:
URL:https://yesucantoo.com/event/office-closed/
END:VEVENT
BEGIN:VEVENT
DTSTART;VALUE=DATE:20200330
DTEND;VALUE=DATE:20200331
DTSTAMP:20260420T042120
CREATED:20200301T163420Z
LAST-MODIFIED:20200301T163454Z
UID:8021-1585526400-1585612799@yesucantoo.com
SUMMARY:Office Closed
DESCRIPTION:
URL:https://yesucantoo.com/event/office-hours-17/
END:VEVENT
BEGIN:VEVENT
DTSTART;VALUE=DATE:20200327
DTEND;VALUE=DATE:20200328
DTSTAMP:20260420T042120
CREATED:20200301T165044Z
LAST-MODIFIED:20200301T165044Z
UID:8062-1585267200-1585353599@yesucantoo.com
SUMMARY:Closed
DESCRIPTION:
URL:https://yesucantoo.com/event/closed-4/
END:VEVENT
BEGIN:VEVENT
DTSTART;TZID=America/New_York:20200326T183000
DTEND;TZID=America/New_York:20200326T200000
DTSTAMP:20260420T042120
CREATED:20200301T164806Z
LAST-MODIFIED:20200301T164829Z
UID:8053-1585247400-1585252800@yesucantoo.com
SUMMARY:Sarasota Monthly Meeting - Open
DESCRIPTION:Bring a guest. The meeting will be held at Gina Cirillo’s home (address TBA). \nTopic: How to deal with cravings
URL:https://yesucantoo.com/event/sarasota-monthly-meeting-open/
END:VEVENT
BEGIN:VEVENT
DTSTART;TZID=America/New_York:20200326T080000
DTEND;TZID=America/New_York:20200326T170000
DTSTAMP:20260420T042120
CREATED:20200301T164638Z
LAST-MODIFIED:20200301T164638Z
UID:8051-1585209600-1585242000@yesucantoo.com
SUMMARY:Office Hours
DESCRIPTION:Client Appointments. Call to schedule 8-5pm
URL:https://yesucantoo.com/event/office-hours-29/
END:VEVENT
BEGIN:VEVENT
DTSTART;TZID=America/New_York:20200324T140000
DTEND;TZID=America/New_York:20200324T200000
DTSTAMP:20260420T042120
CREATED:20200301T164023Z
LAST-MODIFIED:20200301T164023Z
UID:8032-1585058400-1585080000@yesucantoo.com
SUMMARY:Office Hours
DESCRIPTION:Closed until 2 pm \nSchedule your weekly check in-call between 2-8pm
URL:https://yesucantoo.com/event/office-hours-21/
END:VEVENT
BEGIN:VEVENT
DTSTART;VALUE=DATE:20200320
DTEND;VALUE=DATE:20200321
DTSTAMP:20260420T042120
CREATED:20200301T165006Z
LAST-MODIFIED:20200301T165006Z
UID:8060-1584662400-1584748799@yesucantoo.com
SUMMARY:Closed
DESCRIPTION:
URL:https://yesucantoo.com/event/closed-3/
END:VEVENT
BEGIN:VEVENT
DTSTART;TZID=America/New_York:20200319T080000
DTEND;TZID=America/New_York:20200319T200000
DTSTAMP:20260420T042120
CREATED:20200301T164559Z
LAST-MODIFIED:20200301T164559Z
UID:8049-1584604800-1584648000@yesucantoo.com
SUMMARY:Office Hours
DESCRIPTION:Client Appointments. Call to schedule 8-8
URL:https://yesucantoo.com/event/office-hours-28/
END:VEVENT
BEGIN:VEVENT
DTSTART;TZID=America/New_York:20200318T080000
DTEND;TZID=America/New_York:20200318T200000
DTSTAMP:20260420T042120
CREATED:20200301T164308Z
LAST-MODIFIED:20200301T164308Z
UID:8040-1584518400-1584561600@yesucantoo.com
SUMMARY:Office Hours
DESCRIPTION:Client Appointments. Call to schedule 8-8
URL:https://yesucantoo.com/event/office-hours-24/
END:VEVENT
BEGIN:VEVENT
DTSTART;TZID=America/New_York:20200317T140000
DTEND;TZID=America/New_York:20200317T200000
DTSTAMP:20260420T042120
CREATED:20200301T163914Z
LAST-MODIFIED:20200301T163947Z
UID:8030-1584453600-1584475200@yesucantoo.com
SUMMARY:Office Hours
DESCRIPTION:Closed until 2 pm \nSchedule your weekly check in-call between 2-8pm
URL:https://yesucantoo.com/event/office-hours-20/
END:VEVENT
BEGIN:VEVENT
DTSTART;TZID=America/New_York:20200316T130000
DTEND;TZID=America/New_York:20200316T170000
DTSTAMP:20260420T042120
CREATED:20200301T163344Z
LAST-MODIFIED:20200301T163344Z
UID:8019-1584363600-1584378000@yesucantoo.com
SUMMARY:Office Hours
DESCRIPTION:Schedule your weekly check in-call
URL:https://yesucantoo.com/event/office-hours-16/
END:VEVENT
BEGIN:VEVENT
DTSTART;VALUE=DATE:20200313
DTEND;VALUE=DATE:20200314
DTSTAMP:20260420T042120
CREATED:20200301T164939Z
LAST-MODIFIED:20200301T164939Z
UID:8058-1584057600-1584143999@yesucantoo.com
SUMMARY:Closed
DESCRIPTION:
URL:https://yesucantoo.com/event/closed-2/
END:VEVENT
BEGIN:VEVENT
DTSTART;TZID=America/New_York:20200312T080000
DTEND;TZID=America/New_York:20200312T200000
DTSTAMP:20260420T042120
CREATED:20200301T164527Z
LAST-MODIFIED:20200301T164527Z
UID:8047-1584000000-1584043200@yesucantoo.com
SUMMARY:Office Hours
DESCRIPTION:Client Appointments. Call to schedule 8-8
URL:https://yesucantoo.com/event/office-hours-27/
END:VEVENT
BEGIN:VEVENT
DTSTART;TZID=America/New_York:20200311T080000
DTEND;TZID=America/New_York:20200311T200000
DTSTAMP:20260420T042120
CREATED:20200301T164239Z
LAST-MODIFIED:20200301T164239Z
UID:8038-1583913600-1583956800@yesucantoo.com
SUMMARY:Office Hours
DESCRIPTION:Client Appointments. Call to schedule 8-8
URL:https://yesucantoo.com/event/office-hours-23/
END:VEVENT
BEGIN:VEVENT
DTSTART;TZID=America/New_York:20200310T183000
DTEND;TZID=America/New_York:20200310T200000
DTSTAMP:20260420T042120
CREATED:20200301T163837Z
LAST-MODIFIED:20200301T163837Z
UID:8028-1583865000-1583870400@yesucantoo.com
SUMMARY:North Port Meeting
DESCRIPTION:The Power of Protein! \nClients only
URL:https://yesucantoo.com/event/north-port-meeting/
LOCATION:Office\, 4335 Sylvania Ave\, North Port\, 34286\, United States
ORGANIZER;CN="Rebecca Cline":MAILTO:yesyoucan.58@yahoo.com
END:VEVENT
BEGIN:VEVENT
DTSTART;TZID=America/New_York:20200310T140000
DTEND;TZID=America/New_York:20200310T183000
DTSTAMP:20260420T042120
CREATED:20200301T163717Z
LAST-MODIFIED:20200301T163717Z
UID:8026-1583848800-1583865000@yesucantoo.com
SUMMARY:Office Hours
DESCRIPTION:Closed until 2 pm \nSchedule your weekly check in-call between 2-6pm
URL:https://yesucantoo.com/event/office-hours-19/
END:VEVENT
BEGIN:VEVENT
DTSTART;TZID=America/New_York:20200309T130000
DTEND;TZID=America/New_York:20200309T170000
DTSTAMP:20260420T042120
CREATED:20200301T163303Z
LAST-MODIFIED:20200301T163303Z
UID:8017-1583758800-1583773200@yesucantoo.com
SUMMARY:Office Hours
DESCRIPTION:Schedule your weekly check in-call
URL:https://yesucantoo.com/event/office-hours-15/
END:VEVENT
BEGIN:VEVENT
DTSTART;TZID=America/New_York:20200308T100000
DTEND;TZID=America/New_York:20200308T180000
DTSTAMP:20260420T042120
CREATED:20200301T165454Z
LAST-MODIFIED:20200301T165454Z
UID:8066-1583661600-1583690400@yesucantoo.com
SUMMARY:Diamond Event at Port Charlotte Mall
DESCRIPTION:Port Charlotte mall is hosting a diamond event. Yes U Can 2 will be there hosting an informational booth. Come help or stop by to visit!
URL:https://yesucantoo.com/event/diamond-event-at-port-charlotte-mall-2/
END:VEVENT
BEGIN:VEVENT
DTSTART;TZID=America/New_York:20200307T100000
DTEND;TZID=America/New_York:20200308T200000
DTSTAMP:20260420T042120
CREATED:20200301T165407Z
LAST-MODIFIED:20200301T165539Z
UID:8064-1583575200-1583697600@yesucantoo.com
SUMMARY:Diamond Event at Port Charlotte Mall
DESCRIPTION:Port Charlotte mall is hosting a diamond event. Yes U Can 2 will be there hosting an informational booth. Come help or stop by to visit!
URL:https://yesucantoo.com/event/diamond-event-at-port-charlotte-mall/
END:VEVENT
BEGIN:VEVENT
DTSTART;VALUE=DATE:20200306
DTEND;VALUE=DATE:20200307
DTSTAMP:20260420T042120
CREATED:20200301T164906Z
LAST-MODIFIED:20200301T164906Z
UID:8056-1583452800-1583539199@yesucantoo.com
SUMMARY:Closed
DESCRIPTION:
URL:https://yesucantoo.com/event/closed/
END:VEVENT
BEGIN:VEVENT
DTSTART;TZID=America/New_York:20200305T080000
DTEND;TZID=America/New_York:20200305T200000
DTSTAMP:20260420T042120
CREATED:20200301T164451Z
LAST-MODIFIED:20200301T164451Z
UID:8045-1583395200-1583438400@yesucantoo.com
SUMMARY:Office Hours
DESCRIPTION:Client Appointments. Call to schedule 8-8
URL:https://yesucantoo.com/event/office-hours-26/
END:VEVENT
BEGIN:VEVENT
DTSTART;TZID=America/New_York:20200304T080000
DTEND;TZID=America/New_York:20200304T200000
DTSTAMP:20260420T042120
CREATED:20200301T164153Z
LAST-MODIFIED:20200301T164153Z
UID:8036-1583308800-1583352000@yesucantoo.com
SUMMARY:Office Hours
DESCRIPTION:Client Appointment calls/video chats. Call to schedule 8-8
URL:https://yesucantoo.com/event/office-hours-22/
END:VEVENT
BEGIN:VEVENT
DTSTART;TZID=America/New_York:20200303T140000
DTEND;TZID=America/New_York:20200303T200000
DTSTAMP:20260420T042120
CREATED:20200301T163638Z
LAST-MODIFIED:20200301T163638Z
UID:8024-1583244000-1583265600@yesucantoo.com
SUMMARY:Office Hours
DESCRIPTION:Closed until 2 pm \nSchedule your weekly check in-call between 2-8pm
URL:https://yesucantoo.com/event/office-hours-18/
END:VEVENT
BEGIN:VEVENT
DTSTART;TZID=America/New_York:20200302T130000
DTEND;TZID=America/New_York:20200302T170000
DTSTAMP:20260420T042120
CREATED:20200301T163226Z
LAST-MODIFIED:20200301T163226Z
UID:8015-1583154000-1583168400@yesucantoo.com
SUMMARY:Office Hours
DESCRIPTION:Schedule your weekly check in-call
URL:https://yesucantoo.com/event/office-hours-14/
LOCATION:Office\, 4335 Sylvania Ave\, North Port\, 34286\, United States
END:VEVENT
BEGIN:VEVENT
DTSTART;TZID=America/New_York:20200228T130000
DTEND;TZID=America/New_York:20200228T150000
DTSTAMP:20260420T042120
CREATED:20200213T011543Z
LAST-MODIFIED:20200213T011543Z
UID:7970-1582894800-1582902000@yesucantoo.com
SUMMARY:Outing P (Unavailable)
DESCRIPTION:
URL:https://yesucantoo.com/event/outing-p-unavailable/
END:VEVENT
BEGIN:VEVENT
DTSTART;TZID=America/New_York:20200227T180000
DTEND;TZID=America/New_York:20200227T193000
DTSTAMP:20260420T042120
CREATED:20200213T011308Z
LAST-MODIFIED:20200213T011308Z
UID:7966-1582826400-1582831800@yesucantoo.com
SUMMARY:Sarasota Group Meeting
DESCRIPTION:All clients are welcome. Group meetings are a place to mingle with others in the program and learn new ways to stay on track.
URL:https://yesucantoo.com/event/sarasota-group-meeting/
END:VEVENT
BEGIN:VEVENT
DTSTART;TZID=America/New_York:20200227T080000
DTEND;TZID=America/New_York:20200227T200000
DTSTAMP:20260420T042120
CREATED:20200213T011108Z
LAST-MODIFIED:20200213T011108Z
UID:7964-1582790400-1582833600@yesucantoo.com
SUMMARY:Office Hours
DESCRIPTION:Schedule your weekly check in
URL:https://yesucantoo.com/event/office-hours-13/
END:VEVENT
END:VCALENDAR