BEGIN:VCALENDAR
VERSION:2.0
PRODID:-//Yes U Can Too - ECPv6.15.19//NONSGML v1.0//EN
CALSCALE:GREGORIAN
METHOD:PUBLISH
X-WR-CALNAME:Yes U Can Too
X-ORIGINAL-URL:https://yesucantoo.com
X-WR-CALDESC:Events for Yes U Can Too
REFRESH-INTERVAL;VALUE=DURATION:PT1H
X-Robots-Tag:noindex
X-PUBLISHED-TTL:PT1H
BEGIN:VTIMEZONE
TZID:America/New_York
BEGIN:DAYLIGHT
TZOFFSETFROM:-0500
TZOFFSETTO:-0400
TZNAME:EDT
DTSTART:20190310T070000
END:DAYLIGHT
BEGIN:STANDARD
TZOFFSETFROM:-0400
TZOFFSETTO:-0500
TZNAME:EST
DTSTART:20191103T060000
END:STANDARD
BEGIN:DAYLIGHT
TZOFFSETFROM:-0500
TZOFFSETTO:-0400
TZNAME:EDT
DTSTART:20200308T070000
END:DAYLIGHT
BEGIN:STANDARD
TZOFFSETFROM:-0400
TZOFFSETTO:-0500
TZNAME:EST
DTSTART:20201101T060000
END:STANDARD
BEGIN:DAYLIGHT
TZOFFSETFROM:-0500
TZOFFSETTO:-0400
TZNAME:EDT
DTSTART:20210314T070000
END:DAYLIGHT
BEGIN:STANDARD
TZOFFSETFROM:-0400
TZOFFSETTO:-0500
TZNAME:EST
DTSTART:20211107T060000
END:STANDARD
END:VTIMEZONE
BEGIN:VEVENT
DTSTART;TZID=America/New_York:20200308T100000
DTEND;TZID=America/New_York:20200308T180000
DTSTAMP:20260420T072009
CREATED:20200301T165454Z
LAST-MODIFIED:20200301T165454Z
UID:8066-1583661600-1583690400@yesucantoo.com
SUMMARY:Diamond Event at Port Charlotte Mall
DESCRIPTION:Port Charlotte mall is hosting a diamond event. Yes U Can 2 will be there hosting an informational booth. Come help or stop by to visit!
URL:https://yesucantoo.com/event/diamond-event-at-port-charlotte-mall-2/
END:VEVENT
BEGIN:VEVENT
DTSTART;TZID=America/New_York:20200307T100000
DTEND;TZID=America/New_York:20200308T200000
DTSTAMP:20260420T072009
CREATED:20200301T165407Z
LAST-MODIFIED:20200301T165539Z
UID:8064-1583575200-1583697600@yesucantoo.com
SUMMARY:Diamond Event at Port Charlotte Mall
DESCRIPTION:Port Charlotte mall is hosting a diamond event. Yes U Can 2 will be there hosting an informational booth. Come help or stop by to visit!
URL:https://yesucantoo.com/event/diamond-event-at-port-charlotte-mall/
END:VEVENT
BEGIN:VEVENT
DTSTART;VALUE=DATE:20200306
DTEND;VALUE=DATE:20200307
DTSTAMP:20260420T072009
CREATED:20200301T164906Z
LAST-MODIFIED:20200301T164906Z
UID:8056-1583452800-1583539199@yesucantoo.com
SUMMARY:Closed
DESCRIPTION:
URL:https://yesucantoo.com/event/closed/
END:VEVENT
BEGIN:VEVENT
DTSTART;TZID=America/New_York:20200305T080000
DTEND;TZID=America/New_York:20200305T200000
DTSTAMP:20260420T072009
CREATED:20200301T164451Z
LAST-MODIFIED:20200301T164451Z
UID:8045-1583395200-1583438400@yesucantoo.com
SUMMARY:Office Hours
DESCRIPTION:Client Appointments. Call to schedule 8-8
URL:https://yesucantoo.com/event/office-hours-26/
END:VEVENT
BEGIN:VEVENT
DTSTART;TZID=America/New_York:20200304T080000
DTEND;TZID=America/New_York:20200304T200000
DTSTAMP:20260420T072009
CREATED:20200301T164153Z
LAST-MODIFIED:20200301T164153Z
UID:8036-1583308800-1583352000@yesucantoo.com
SUMMARY:Office Hours
DESCRIPTION:Client Appointment calls/video chats. Call to schedule 8-8
URL:https://yesucantoo.com/event/office-hours-22/
END:VEVENT
BEGIN:VEVENT
DTSTART;TZID=America/New_York:20200303T140000
DTEND;TZID=America/New_York:20200303T200000
DTSTAMP:20260420T072009
CREATED:20200301T163638Z
LAST-MODIFIED:20200301T163638Z
UID:8024-1583244000-1583265600@yesucantoo.com
SUMMARY:Office Hours
DESCRIPTION:Closed until 2 pm \nSchedule your weekly check in-call between 2-8pm
URL:https://yesucantoo.com/event/office-hours-18/
END:VEVENT
BEGIN:VEVENT
DTSTART;TZID=America/New_York:20200302T130000
DTEND;TZID=America/New_York:20200302T170000
DTSTAMP:20260420T072009
CREATED:20200301T163226Z
LAST-MODIFIED:20200301T163226Z
UID:8015-1583154000-1583168400@yesucantoo.com
SUMMARY:Office Hours
DESCRIPTION:Schedule your weekly check in-call
URL:https://yesucantoo.com/event/office-hours-14/
LOCATION:Office\, 4335 Sylvania Ave\, North Port\, 34286\, United States
END:VEVENT
BEGIN:VEVENT
DTSTART;TZID=America/New_York:20200228T130000
DTEND;TZID=America/New_York:20200228T150000
DTSTAMP:20260420T072009
CREATED:20200213T011543Z
LAST-MODIFIED:20200213T011543Z
UID:7970-1582894800-1582902000@yesucantoo.com
SUMMARY:Outing P (Unavailable)
DESCRIPTION:
URL:https://yesucantoo.com/event/outing-p-unavailable/
END:VEVENT
BEGIN:VEVENT
DTSTART;TZID=America/New_York:20200227T180000
DTEND;TZID=America/New_York:20200227T193000
DTSTAMP:20260420T072009
CREATED:20200213T011308Z
LAST-MODIFIED:20200213T011308Z
UID:7966-1582826400-1582831800@yesucantoo.com
SUMMARY:Sarasota Group Meeting
DESCRIPTION:All clients are welcome. Group meetings are a place to mingle with others in the program and learn new ways to stay on track.
URL:https://yesucantoo.com/event/sarasota-group-meeting/
END:VEVENT
BEGIN:VEVENT
DTSTART;TZID=America/New_York:20200227T080000
DTEND;TZID=America/New_York:20200227T200000
DTSTAMP:20260420T072009
CREATED:20200213T011108Z
LAST-MODIFIED:20200213T011108Z
UID:7964-1582790400-1582833600@yesucantoo.com
SUMMARY:Office Hours
DESCRIPTION:Schedule your weekly check in
URL:https://yesucantoo.com/event/office-hours-13/
END:VEVENT
BEGIN:VEVENT
DTSTART;TZID=America/New_York:20200226T080000
DTEND;TZID=America/New_York:20200226T200000
DTSTAMP:20260420T072009
CREATED:20200213T011024Z
LAST-MODIFIED:20200213T011024Z
UID:7962-1582704000-1582747200@yesucantoo.com
SUMMARY:Office Hours
DESCRIPTION:Schedule your weekly check in
URL:https://yesucantoo.com/event/office-hours-12/
END:VEVENT
BEGIN:VEVENT
DTSTART;TZID=America/New_York:20200221T093000
DTEND;TZID=America/New_York:20200221T120000
DTSTAMP:20260420T072009
CREATED:20200213T011443Z
LAST-MODIFIED:20200213T011443Z
UID:7968-1582277400-1582286400@yesucantoo.com
SUMMARY:Outing M (unavailable)
DESCRIPTION:
URL:https://yesucantoo.com/event/outing-m-unavailable/
END:VEVENT
BEGIN:VEVENT
DTSTART;TZID=America/New_York:20200220T080000
DTEND;TZID=America/New_York:20200220T200000
DTSTAMP:20260420T072009
CREATED:20200213T010940Z
LAST-MODIFIED:20200213T010940Z
UID:7960-1582185600-1582228800@yesucantoo.com
SUMMARY:Office Hours
DESCRIPTION:Schedule your weekly check in
URL:https://yesucantoo.com/event/office-hours-11/
END:VEVENT
BEGIN:VEVENT
DTSTART;TZID=America/New_York:20200219T080000
DTEND;TZID=America/New_York:20200219T200000
DTSTAMP:20260420T072009
CREATED:20200213T010847Z
LAST-MODIFIED:20200213T010847Z
UID:7958-1582099200-1582142400@yesucantoo.com
SUMMARY:Office Hours
DESCRIPTION:Schedule your weekly check in
URL:https://yesucantoo.com/event/office-hours-10/
LOCATION:Office\, 4335 Sylvania Ave\, North Port\, 34286\, United States
END:VEVENT
BEGIN:VEVENT
DTSTART;TZID=America/New_York:20200213T080000
DTEND;TZID=America/New_York:20200213T200000
DTSTAMP:20260420T072009
CREATED:20200213T010742Z
LAST-MODIFIED:20200213T010758Z
UID:7955-1581580800-1581624000@yesucantoo.com
SUMMARY:Office Hours
DESCRIPTION:Schedule you weekly check in
URL:https://yesucantoo.com/event/7955/
LOCATION:Office\, 4335 Sylvania Ave\, North Port\, 34286\, United States
END:VEVENT
BEGIN:VEVENT
DTSTART;TZID=America/New_York:20200212T080000
DTEND;TZID=America/New_York:20200212T200000
DTSTAMP:20260420T072009
CREATED:20200213T010614Z
LAST-MODIFIED:20200213T010614Z
UID:7953-1581494400-1581537600@yesucantoo.com
SUMMARY:Office Hours
DESCRIPTION:Schedule you weekly check-in.
URL:https://yesucantoo.com/event/office-hours-9/
LOCATION:Office\, 4335 Sylvania Ave\, North Port\, 34286\, United States
END:VEVENT
BEGIN:VEVENT
DTSTART;TZID=America/New_York:20200130T080000
DTEND;TZID=America/New_York:20200130T200000
DTSTAMP:20260420T072009
CREATED:20200105T203930Z
LAST-MODIFIED:20200105T203930Z
UID:7864-1580371200-1580414400@yesucantoo.com
SUMMARY:Remote Office Hours
DESCRIPTION:Call in for your weekly check-in call. \nOPen hours 8am-8pm. All Time slots currently full.
URL:https://yesucantoo.com/event/remote-office-hours/
END:VEVENT
BEGIN:VEVENT
DTSTART;TZID=America/New_York:20200129T080000
DTEND;TZID=America/New_York:20200129T200000
DTSTAMP:20260420T072009
CREATED:20200105T203831Z
LAST-MODIFIED:20200105T203831Z
UID:7862-1580284800-1580328000@yesucantoo.com
SUMMARY:PA Office Hours
DESCRIPTION:For my ladies in Pennsylvania\, schedule your monthly in-person office hours. Any others\, we will do a Face-Time or skype call! \nOpen times 8 am-8 pm @ Elgin United Methodist Church \n8-9 – open \n9-10 – Open \n10-11 Filled \n11-12 – Open \n12-1 – Open \n1-2 Open \n2-3 Open \n3-4 Open \n4-5 Filled \n5-6 Open \n6-7 Open \n7-8 Open \n  \n  \n 
URL:https://yesucantoo.com/event/pa-office-hours/
END:VEVENT
BEGIN:VEVENT
DTSTART;TZID=America/New_York:20200128T183000
DTEND;TZID=America/New_York:20200128T203000
DTSTAMP:20260420T072009
CREATED:20200105T204029Z
LAST-MODIFIED:20200105T204029Z
UID:7867-1580236200-1580243400@yesucantoo.com
SUMMARY:NO Group Meeting
DESCRIPTION:I will be out of town so we will not be meeting this Tuesday.
URL:https://yesucantoo.com/event/no-group-meeting/
END:VEVENT
BEGIN:VEVENT
DTSTART;TZID=America/New_York:20200126T190000
DTEND;TZID=America/New_York:20200126T203000
DTSTAMP:20260420T072009
CREATED:20200105T203522Z
LAST-MODIFIED:20200105T203522Z
UID:7860-1580065200-1580070600@yesucantoo.com
SUMMARY:Meeting at Elgin Church
DESCRIPTION:For my PA girls\, please come to check-in at the Elgin United Methodist Church. \nBring a friend to come to taste some new recipes and reconnect! \n  \nAddress: 18240 N Main St. Elgin\, PA 16413 \n 
URL:https://yesucantoo.com/event/meeting-at-elgin-church/
END:VEVENT
BEGIN:VEVENT
DTSTART;TZID=America/New_York:20200123T080000
DTEND;TZID=America/New_York:20200123T100000
DTSTAMP:20260420T072009
CREATED:20200105T203158Z
LAST-MODIFIED:20200105T203158Z
UID:7858-1579766400-1579773600@yesucantoo.com
SUMMARY:Office Hours
DESCRIPTION:Schedule your weekly meeting! \n  \nOpen times: \n8-9 – OPen \n9-10 – Open
URL:https://yesucantoo.com/event/office-hours-8/
LOCATION:Office\, 4335 Sylvania Ave\, North Port\, 34286\, United States
END:VEVENT
BEGIN:VEVENT
DTSTART;VALUE=DATE:20200122
DTEND;VALUE=DATE:20200123
DTSTAMP:20260420T072009
CREATED:20200105T203106Z
LAST-MODIFIED:20200105T203106Z
UID:7856-1579651200-1579737599@yesucantoo.com
SUMMARY:Out of Office
DESCRIPTION:
URL:https://yesucantoo.com/event/out-of-office/
END:VEVENT
BEGIN:VEVENT
DTSTART;TZID=America/New_York:20200120T130000
DTEND;TZID=America/New_York:20200120T180000
DTSTAMP:20260420T072009
CREATED:20200105T202948Z
LAST-MODIFIED:20200105T202948Z
UID:7854-1579525200-1579543200@yesucantoo.com
SUMMARY:Office Hours
DESCRIPTION:Schedule your weekly meeting. \nOpen hours run from 1 pm-6 pm. All-time slots are currently open
URL:https://yesucantoo.com/event/office-hours-7/
LOCATION:Office\, 4335 Sylvania Ave\, North Port\, 34286\, United States
END:VEVENT
BEGIN:VEVENT
DTSTART;TZID=America/New_York:20200116T080000
DTEND;TZID=America/New_York:20200116T200000
DTSTAMP:20260420T072009
CREATED:20200105T202831Z
LAST-MODIFIED:20200105T202831Z
UID:7852-1579161600-1579204800@yesucantoo.com
SUMMARY:Office Hours
DESCRIPTION:8-9 Filled \n9-10 Filled \n10-11 – Filled \n11-12 – Filled \n1-2 – Open \n2-3 – Filled \n3-4 – Open \n4-5 – Open \n5-6 – Filled \n6-7 – Open \n7-8 – Filled
URL:https://yesucantoo.com/event/office-hours-6/
LOCATION:Office\, 4335 Sylvania Ave\, North Port\, 34286\, United States
END:VEVENT
BEGIN:VEVENT
DTSTART;TZID=America/New_York:20200115T080000
DTEND;TZID=America/New_York:20200115T200000
DTSTAMP:20260420T072009
CREATED:20200105T202731Z
LAST-MODIFIED:20200105T202731Z
UID:7850-1579075200-1579118400@yesucantoo.com
SUMMARY:Office Hours
DESCRIPTION:8-9 Filled \n9-10 Filled \n10-11 – Filled \n11-12 – Filled \n1-2 – Open \n2-3 – Open \n3-4 – Filled \n4-5 – Open \n5-6 – Filled \n6-7 – Open \n7-8 – Open
URL:https://yesucantoo.com/event/office-hours-5/
LOCATION:Office\, 4335 Sylvania Ave\, North Port\, 34286\, United States
END:VEVENT
BEGIN:VEVENT
DTSTART;TZID=America/New_York:20200114T183000
DTEND;TZID=America/New_York:20200114T203000
DTSTAMP:20260420T072009
CREATED:20200105T202629Z
LAST-MODIFIED:20200105T202629Z
UID:7848-1579026600-1579033800@yesucantoo.com
SUMMARY:Open Group Meeting
DESCRIPTION:This month’s group meeting is focusing on New Year\, New You! Bring a friend or family member and you and your guest get a special gift. Hope to see you there!
URL:https://yesucantoo.com/event/open-group-meeting/
LOCATION:Office\, 4335 Sylvania Ave\, North Port\, 34286\, United States
END:VEVENT
BEGIN:VEVENT
DTSTART;TZID=America/New_York:20200113T130000
DTEND;TZID=America/New_York:20200113T180000
DTSTAMP:20260420T072009
CREATED:20200105T202423Z
LAST-MODIFIED:20200105T202423Z
UID:7846-1578920400-1578938400@yesucantoo.com
SUMMARY:Office Hours
DESCRIPTION:All-time slots still open!
URL:https://yesucantoo.com/event/office-hours-4/
LOCATION:Office\, 4335 Sylvania Ave\, North Port\, 34286\, United States
END:VEVENT
BEGIN:VEVENT
DTSTART;TZID=America/New_York:20200109T080000
DTEND;TZID=America/New_York:20200109T200000
DTSTAMP:20260420T072009
CREATED:20200105T202326Z
LAST-MODIFIED:20200105T202326Z
UID:7844-1578556800-1578600000@yesucantoo.com
SUMMARY:Office Hours
DESCRIPTION:8-9 – Filled \n9-10 – Filled \n10-11 – Filled \n11-12 – Filled \n1-2 – Open \n2-3 – Filled \n3-4 – Open \n4-5 – Open \n5-6 – OPen \n6-7 – Filled \n7-8 – Open
URL:https://yesucantoo.com/event/office-hours-3/
LOCATION:Office\, 4335 Sylvania Ave\, North Port\, 34286\, United States
END:VEVENT
BEGIN:VEVENT
DTSTART;TZID=America/New_York:20200108T080000
DTEND;TZID=America/New_York:20200108T200000
DTSTAMP:20260420T072009
CREATED:20200105T202228Z
LAST-MODIFIED:20200105T202228Z
UID:7842-1578470400-1578513600@yesucantoo.com
SUMMARY:Office Hours
DESCRIPTION:8-9 open \n9-10 open \n10-11 – Filled \n11-12 – Filled \n1-2 – Filled \n2-3 – Open \n3-4 – Filled \n4-5 – Open \n5-6 – Filled \n6-7 – Filled \n7-8 – Open
URL:https://yesucantoo.com/event/office-hours-2/
LOCATION:Office\, 4335 Sylvania Ave\, North Port\, 34286\, United States
END:VEVENT
BEGIN:VEVENT
DTSTART;TZID=America/New_York:20200106T130000
DTEND;TZID=America/New_York:20200106T180000
DTSTAMP:20260420T072009
CREATED:20200105T202038Z
LAST-MODIFIED:20200105T202038Z
UID:7840-1578315600-1578333600@yesucantoo.com
SUMMARY:Office Hours
DESCRIPTION:Clients Booked from 1-4 pm. \n4-5\, and 5-6 still available
URL:https://yesucantoo.com/event/office-hours/
LOCATION:Office\, 4335 Sylvania Ave\, North Port\, 34286\, United States
END:VEVENT
END:VCALENDAR