BEGIN:VCALENDAR
VERSION:2.0
PRODID:-//Yes U Can Too - ECPv6.15.19//NONSGML v1.0//EN
CALSCALE:GREGORIAN
METHOD:PUBLISH
X-ORIGINAL-URL:https://yesucantoo.com
X-WR-CALDESC:Events for Yes U Can Too
REFRESH-INTERVAL;VALUE=DURATION:PT1H
X-Robots-Tag:noindex
X-PUBLISHED-TTL:PT1H
BEGIN:VTIMEZONE
TZID:America/New_York
BEGIN:DAYLIGHT
TZOFFSETFROM:-0500
TZOFFSETTO:-0400
TZNAME:EDT
DTSTART:20180311T070000
END:DAYLIGHT
BEGIN:STANDARD
TZOFFSETFROM:-0400
TZOFFSETTO:-0500
TZNAME:EST
DTSTART:20181104T060000
END:STANDARD
BEGIN:DAYLIGHT
TZOFFSETFROM:-0500
TZOFFSETTO:-0400
TZNAME:EDT
DTSTART:20190310T070000
END:DAYLIGHT
BEGIN:STANDARD
TZOFFSETFROM:-0400
TZOFFSETTO:-0500
TZNAME:EST
DTSTART:20191103T060000
END:STANDARD
BEGIN:DAYLIGHT
TZOFFSETFROM:-0500
TZOFFSETTO:-0400
TZNAME:EDT
DTSTART:20200308T070000
END:DAYLIGHT
BEGIN:STANDARD
TZOFFSETFROM:-0400
TZOFFSETTO:-0500
TZNAME:EST
DTSTART:20201101T060000
END:STANDARD
BEGIN:DAYLIGHT
TZOFFSETFROM:-0500
TZOFFSETTO:-0400
TZNAME:EDT
DTSTART:20210314T070000
END:DAYLIGHT
BEGIN:STANDARD
TZOFFSETFROM:-0400
TZOFFSETTO:-0500
TZNAME:EST
DTSTART:20211107T060000
END:STANDARD
END:VTIMEZONE
BEGIN:VEVENT
DTSTART;VALUE=DATE:20191224
DTEND;VALUE=DATE:20200102
DTSTAMP:20260420T124234
CREATED:20191213T000339Z
LAST-MODIFIED:20191213T000339Z
UID:7684-1577145600-1577923199@yesucantoo.com
SUMMARY:Closed for the Holiday
DESCRIPTION:The office will be closed from December 24th and will reopen on January 2nd. If you need immediate assistance please email Becka at yesyoucan.58@yahoo.com and she will get with you as soon as possible.
URL:https://yesucantoo.com/event/closed-for-the-holiday/
LOCATION:Office\, 4335 Sylvania Ave\, North Port\, 34286\, United States
END:VEVENT
BEGIN:VEVENT
DTSTART;TZID=America/New_York:20191218T080000
DTEND;TZID=America/New_York:20191219T200000
DTSTAMP:20260420T124234
CREATED:20191213T000610Z
LAST-MODIFIED:20191213T000610Z
UID:7686-1576656000-1576785600@yesucantoo.com
SUMMARY:Client Days
DESCRIPTION:Wednesday and Thursday are client check-in days! \nIf you don’t have a check-in time yet\, please call to schedule. \n814-964-0822
URL:https://yesucantoo.com/event/client-days/
LOCATION:Office\, 4335 Sylvania Ave\, North Port\, 34286\, United States
END:VEVENT
BEGIN:VEVENT
DTSTART;TZID=America/New_York:20191217T063000
DTEND;TZID=America/New_York:20191217T200000
DTSTAMP:20260420T124234
CREATED:20191213T000022Z
LAST-MODIFIED:20191213T000022Z
UID:7680-1576564200-1576612800@yesucantoo.com
SUMMARY:Christmas Party
DESCRIPTION:Come have fun celebrating your success this year with other Yes U Can Too clients. \nFun games\, food\, and comradery. \n  \nRSVP
URL:https://yesucantoo.com/event/christmas-party/
LOCATION:Office\, 4335 Sylvania Ave\, North Port\, 34286\, United States
ORGANIZER;CN="Rebecca Cline":MAILTO:yesyoucan.58@yahoo.com
END:VEVENT
BEGIN:VEVENT
DTSTART;TZID=America/New_York:20191215T100000
DTEND;TZID=America/New_York:20191215T150000
DTSTAMP:20260420T124234
CREATED:20191212T235659Z
LAST-MODIFIED:20191212T235659Z
UID:7677-1576404000-1576422000@yesucantoo.com
SUMMARY:Christmas Festival
DESCRIPTION:Come support Yes U Can Too at the Bobcat Market Holiday Shopping Festival. \n  \nThere will be fun\, shopping\, music\, food\, and raffles!
URL:https://yesucantoo.com/event/christmas-festival/
LOCATION:Bobcat Market\, 2245 Bobcat Village Center Rd\, North Port\, Florida\, 34288\, United States
END:VEVENT
END:VCALENDAR